BEGIN:VCALENDAR
VERSION:2.0
PRODID:-//Tri Tech Computers//node-icalendar//EN
BEGIN:VEVENT
DTSTAMP:20260420T160428Z
UID:5fc8eb8da4b0302126cca6d2
SUMMARY:We Are Open for Business
DTSTART:19700101T000000Z
DTEND:20220601T144959Z
DESCRIPTION:https://citygate.co.uk/blog/covid19-update
LOCATION:
END:VEVENT
END:VCALENDAR
